BEGIN:VCALENDAR
VERSION:2.0
PRODID:-//Central Florida Jazz Events - ECPv6.15.20//NONSGML v1.0//EN
CALSCALE:GREGORIAN
METHOD:PUBLISH
X-WR-CALNAME:Central Florida Jazz Events
X-ORIGINAL-URL:https://www.cfjazz.com
X-WR-CALDESC:Events for Central Florida Jazz Events
REFRESH-INTERVAL;VALUE=DURATION:PT1H
X-Robots-Tag:noindex
X-PUBLISHED-TTL:PT1H
BEGIN:VTIMEZONE
TZID:America/New_York
BEGIN:DAYLIGHT
TZOFFSETFROM:-0500
TZOFFSETTO:-0400
TZNAME:EDT
DTSTART:20240310T070000
END:DAYLIGHT
BEGIN:STANDARD
TZOFFSETFROM:-0400
TZOFFSETTO:-0500
TZNAME:EST
DTSTART:20241103T060000
END:STANDARD
BEGIN:DAYLIGHT
TZOFFSETFROM:-0500
TZOFFSETTO:-0400
TZNAME:EDT
DTSTART:20250309T070000
END:DAYLIGHT
BEGIN:STANDARD
TZOFFSETFROM:-0400
TZOFFSETTO:-0500
TZNAME:EST
DTSTART:20251102T060000
END:STANDARD
BEGIN:DAYLIGHT
TZOFFSETFROM:-0500
TZOFFSETTO:-0400
TZNAME:EDT
DTSTART:20260308T070000
END:DAYLIGHT
BEGIN:STANDARD
TZOFFSETFROM:-0400
TZOFFSETTO:-0500
TZNAME:EST
DTSTART:20261101T060000
END:STANDARD
END:VTIMEZONE
BEGIN:VEVENT
DTSTART;TZID=America/New_York:20250503T200000
DTEND;TZID=America/New_York:20250503T233000
DTSTAMP:20260423T192229
CREATED:20250320T185911Z
LAST-MODIFIED:20250320T202304Z
UID:10000011-1746302400-1746315000@www.cfjazz.com
SUMMARY:Skaldik (Chile)\, Control This\, De-Generates\, 69 Fingers at West End Live Sanford
DESCRIPTION:Get Tickets\n			\n				\n				\n				\n				\n				Get ready for an epic night of music with four incredible bands sharing the stage! \nSkaldik (Chile) – Skaldik are the ones who talk politics at parties. Seriously furious anti-fascist ska core from Chile with a full brass section. \nControl This – Bringing their signature ska sound and high-energy performance\, this local favorite will have you dancing all night. \nDe-Generates – Blistering hardcore punk and metal from Central Florida. \n69 Fingers – Prog ska since the 90’s grooving and thrashing. \nThis event is 21 and over. Any ticket holder unable to present valid identification indicating that they are at least 21 years of age will not be admitted to this event\, and will not be eligible for a refund. \n			\n				Get Tickets
URL:https://www.cfjazz.com/event/skaldik-05-03-25/
LOCATION:West End Live\, 202 S. Sanford Ave\, Sanford\, FL\, 32771\, United States
ATTACH;FMTTYPE=image/jpeg:https://www.cfjazz.com/wp-content/uploads/2025/03/june-18Th-At-20.00-23.00-1600-x-900-px-1600-x-900-px_20250320_151858_0000.jpg
END:VEVENT
END:VCALENDAR