BEGIN:VCALENDAR
VERSION:2.0
PRODID:-//Central Florida Jazz Events - ECPv6.15.20//NONSGML v1.0//EN
CALSCALE:GREGORIAN
METHOD:PUBLISH
X-WR-CALNAME:Central Florida Jazz Events
X-ORIGINAL-URL:https://www.cfjazz.com
X-WR-CALDESC:Events for Central Florida Jazz Events
REFRESH-INTERVAL;VALUE=DURATION:PT1H
X-Robots-Tag:noindex
X-PUBLISHED-TTL:PT1H
BEGIN:VTIMEZONE
TZID:America/New_York
BEGIN:DAYLIGHT
TZOFFSETFROM:-0500
TZOFFSETTO:-0400
TZNAME:EDT
DTSTART:20240310T070000
END:DAYLIGHT
BEGIN:STANDARD
TZOFFSETFROM:-0400
TZOFFSETTO:-0500
TZNAME:EST
DTSTART:20241103T060000
END:STANDARD
BEGIN:DAYLIGHT
TZOFFSETFROM:-0500
TZOFFSETTO:-0400
TZNAME:EDT
DTSTART:20250309T070000
END:DAYLIGHT
BEGIN:STANDARD
TZOFFSETFROM:-0400
TZOFFSETTO:-0500
TZNAME:EST
DTSTART:20251102T060000
END:STANDARD
BEGIN:DAYLIGHT
TZOFFSETFROM:-0500
TZOFFSETTO:-0400
TZNAME:EDT
DTSTART:20260308T070000
END:DAYLIGHT
BEGIN:STANDARD
TZOFFSETFROM:-0400
TZOFFSETTO:-0500
TZNAME:EST
DTSTART:20261101T060000
END:STANDARD
END:VTIMEZONE
BEGIN:VEVENT
DTSTART;TZID=America/New_York:20251004T200000
DTEND;TZID=America/New_York:20251004T233000
DTSTAMP:20260423T173945
CREATED:20250607T005423Z
LAST-MODIFIED:20250607T005426Z
UID:10000024-1759608000-1759620600@www.cfjazz.com
SUMMARY:The Slackers live in West Palm Beach
DESCRIPTION:Get Tickets\n			\n				\n				\n				\n				\n				Since 1991\, the Slackers have released fifteen albums and countless singles\, while their 1000s of live performances feed their fans with energetic sets of ecstatic music. \n  \nThe Slackers have been called ‘the Sound of New York’ by the New York Times. They were described by Brooklyn Vegan as a“ clean mix of Ska\, Reggae\, and Soul that gets dirtied up by Vic Ruggiero’s tough New York accent.’ \n			\n				Get Tickets
URL:https://www.cfjazz.com/event/the-slackers-live-in-west-palm-beach/
LOCATION:Respectable Street\, 518 Clematis St\, West Palm Beach\, FL\, 33401\, United States
ATTACH;FMTTYPE=image/jpeg:https://www.cfjazz.com/wp-content/uploads/2025/06/slackers-wpb-1600x900-1.jpg
END:VEVENT
END:VCALENDAR