BEGIN:VCALENDAR
VERSION:2.0
PRODID:-//Central Florida Jazz Events - ECPv6.15.20//NONSGML v1.0//EN
CALSCALE:GREGORIAN
METHOD:PUBLISH
X-WR-CALNAME:Central Florida Jazz Events
X-ORIGINAL-URL:https://www.cfjazz.com
X-WR-CALDESC:Events for Central Florida Jazz Events
REFRESH-INTERVAL;VALUE=DURATION:PT1H
X-Robots-Tag:noindex
X-PUBLISHED-TTL:PT1H
BEGIN:VTIMEZONE
TZID:America/New_York
BEGIN:DAYLIGHT
TZOFFSETFROM:-0500
TZOFFSETTO:-0400
TZNAME:EDT
DTSTART:20240310T070000
END:DAYLIGHT
BEGIN:STANDARD
TZOFFSETFROM:-0400
TZOFFSETTO:-0500
TZNAME:EST
DTSTART:20241103T060000
END:STANDARD
BEGIN:DAYLIGHT
TZOFFSETFROM:-0500
TZOFFSETTO:-0400
TZNAME:EDT
DTSTART:20250309T070000
END:DAYLIGHT
BEGIN:STANDARD
TZOFFSETFROM:-0400
TZOFFSETTO:-0500
TZNAME:EST
DTSTART:20251102T060000
END:STANDARD
BEGIN:DAYLIGHT
TZOFFSETFROM:-0500
TZOFFSETTO:-0400
TZNAME:EDT
DTSTART:20260308T070000
END:DAYLIGHT
BEGIN:STANDARD
TZOFFSETFROM:-0400
TZOFFSETTO:-0500
TZNAME:EST
DTSTART:20261101T060000
END:STANDARD
END:VTIMEZONE
BEGIN:VEVENT
DTSTART;TZID=America/New_York:20251107T193000
DTEND;TZID=America/New_York:20251107T213000
DTSTAMP:20260423T154926
CREATED:20251023T170436Z
LAST-MODIFIED:20251023T170440Z
UID:10000032-1762543800-1762551000@www.cfjazz.com
SUMMARY:Nesto's Jazz Quartet live at Reilly Arts Center Ocala
DESCRIPTION:Get Tickets\n			\n				\n				\n				\n				\n				Nesto’s Jazz is led by bassist\, percussionist and bandleader\, David Ernesto (Nesto) Vanegas. Ranging from a small trio to a larger percussion ensemble\, Nesto’s Jazz modernizes the traditions of North and South American dance styles. \nIn this fusion of world rhythms and American jazz\, listeners can experience a dense influence of hard bop\, bebop\, samba\, baião\, bossa nova\, and Caribbean grooves. This group has blended an original sound that expands upon the legacies of Tito Puente\, Charles Mingus\, Cal Tjader and Chick Corea. \nThe current lineup of musicians includes Vanegas on bass\, Matthew Biggers on piano\, and fellow percussionists\, Paul Terry on drum kit\, and Justin Steger on vibraphone. \nVanegas completed his Master’s degree in Music and Music Education at Teachers College\, Columbia University in 2019\, and he is currently an instructor of music at Seminole State College of Florida. \n			\n				Get Tickets
URL:https://www.cfjazz.com/event/nestos-jazz-quartet-live-at-reilly-arts-center-ocala/
LOCATION:Reilly Arts Center\, 500 NE 9th Street\, Ocala\, FL\, 34470\, United States
ATTACH;FMTTYPE=image/jpeg:https://www.cfjazz.com/wp-content/uploads/2025/10/Nesto-Jazz-May-29-2024193458-scaled-1.jpg
END:VEVENT
END:VCALENDAR