BEGIN:VCALENDAR
VERSION:2.0
PRODID:-//Central Florida Jazz Events - ECPv6.15.20//NONSGML v1.0//EN
CALSCALE:GREGORIAN
METHOD:PUBLISH
X-WR-CALNAME:Central Florida Jazz Events
X-ORIGINAL-URL:https://www.cfjazz.com
X-WR-CALDESC:Events for Central Florida Jazz Events
REFRESH-INTERVAL;VALUE=DURATION:PT1H
X-Robots-Tag:noindex
X-PUBLISHED-TTL:PT1H
BEGIN:VTIMEZONE
TZID:America/New_York
BEGIN:DAYLIGHT
TZOFFSETFROM:-0500
TZOFFSETTO:-0400
TZNAME:EDT
DTSTART:20240310T070000
END:DAYLIGHT
BEGIN:STANDARD
TZOFFSETFROM:-0400
TZOFFSETTO:-0500
TZNAME:EST
DTSTART:20241103T060000
END:STANDARD
BEGIN:DAYLIGHT
TZOFFSETFROM:-0500
TZOFFSETTO:-0400
TZNAME:EDT
DTSTART:20250309T070000
END:DAYLIGHT
BEGIN:STANDARD
TZOFFSETFROM:-0400
TZOFFSETTO:-0500
TZNAME:EST
DTSTART:20251102T060000
END:STANDARD
BEGIN:DAYLIGHT
TZOFFSETFROM:-0500
TZOFFSETTO:-0400
TZNAME:EDT
DTSTART:20260308T070000
END:DAYLIGHT
BEGIN:STANDARD
TZOFFSETFROM:-0400
TZOFFSETTO:-0500
TZNAME:EST
DTSTART:20261101T060000
END:STANDARD
END:VTIMEZONE
BEGIN:VEVENT
DTSTART;TZID=America/New_York:20251025T170000
DTEND;TZID=America/New_York:20251025T230000
DTSTAMP:20260423T173916
CREATED:20251010T233546Z
LAST-MODIFIED:20251010T233551Z
UID:10000031-1761411600-1761433200@www.cfjazz.com
SUMMARY:College Park Jazz Fest
DESCRIPTION:General Admission\n			\n				\n				\n				\n				\n				We welcome you to one of College Park’s most beloved traditions! College Park JazzFest\, the annual flagship event of College Park Main Street\, is still going strong. Started in 2002\, College Park JazzFest features three stages with 12 live bands performing jazz\, R&B\, rock and more. Welcome to our annual neighborhood block party – bring your friends\, your children\, and even your comfy chairs\, as many locals do. But you can expect to be up and dancing!  Local shops and restaurants as well as food trucks are always open\, ready to serve you\, and looking forward to joining in the JazzFest fun. \n			\n				Buy a table
URL:https://www.cfjazz.com/event/college-park-jazz-fest/
LOCATION:college park\, edgewater drive\, orlando\, florida\, 32804
ATTACH;FMTTYPE=image/webp:https://www.cfjazz.com/wp-content/uploads/2025/10/JazzFest-2024-768x267.jpg.webp
END:VEVENT
END:VCALENDAR