BEGIN:VCALENDAR
VERSION:2.0
PRODID:-//Central Florida Jazz Events - ECPv6.15.20//NONSGML v1.0//EN
CALSCALE:GREGORIAN
METHOD:PUBLISH
X-WR-CALNAME:Central Florida Jazz Events
X-ORIGINAL-URL:https://www.cfjazz.com
X-WR-CALDESC:Events for Central Florida Jazz Events
REFRESH-INTERVAL;VALUE=DURATION:PT1H
X-Robots-Tag:noindex
X-PUBLISHED-TTL:PT1H
BEGIN:VTIMEZONE
TZID:America/New_York
BEGIN:DAYLIGHT
TZOFFSETFROM:-0500
TZOFFSETTO:-0400
TZNAME:EDT
DTSTART:20240310T070000
END:DAYLIGHT
BEGIN:STANDARD
TZOFFSETFROM:-0400
TZOFFSETTO:-0500
TZNAME:EST
DTSTART:20241103T060000
END:STANDARD
BEGIN:DAYLIGHT
TZOFFSETFROM:-0500
TZOFFSETTO:-0400
TZNAME:EDT
DTSTART:20250309T070000
END:DAYLIGHT
BEGIN:STANDARD
TZOFFSETFROM:-0400
TZOFFSETTO:-0500
TZNAME:EST
DTSTART:20251102T060000
END:STANDARD
BEGIN:DAYLIGHT
TZOFFSETFROM:-0500
TZOFFSETTO:-0400
TZNAME:EDT
DTSTART:20260308T070000
END:DAYLIGHT
BEGIN:STANDARD
TZOFFSETFROM:-0400
TZOFFSETTO:-0500
TZNAME:EST
DTSTART:20261101T060000
END:STANDARD
END:VTIMEZONE
BEGIN:VEVENT
DTSTART;TZID=America/New_York:20250723T200000
DTEND;TZID=America/New_York:20250723T233000
DTSTAMP:20260423T140757
CREATED:20250606T212302Z
LAST-MODIFIED:20250606T221524Z
UID:10000018-1753300800-1753313400@www.cfjazz.com
SUMMARY:Nolia Joy & The Ramblers with Patrick Hagerman
DESCRIPTION:Get Tickets\n			\n				\n				\n				\n				\n				Welcome a fresh voice to the country and western scene with Nolia Joy and the Ramblers\, featuring standout music students from Rollins College. With heartfelt originals and timeless covers\, their Will’s Pub debut will be supported by the lonesome yearnings of Patrick Hagerman.  \n			\n				Get Tickets
URL:https://www.cfjazz.com/event/nolia-joy-the-ramblers-with-patrick-hagerman/
LOCATION:Will’s Pub\, 1042 N Mills Ave\, Orlando\, 32803\, United States
ATTACH;FMTTYPE=image/jpeg:https://www.cfjazz.com/wp-content/uploads/2025/06/Noila-Joy-1600-x-900-px.jpg
END:VEVENT
BEGIN:VEVENT
DTSTART;TZID=America/New_York:20250720T130000
DTEND;TZID=America/New_York:20250720T150000
DTSTAMP:20260423T140757
CREATED:20250628T214754Z
LAST-MODIFIED:20250628T214757Z
UID:10000025-1753016400-1753023600@www.cfjazz.com
SUMMARY:CF Jazz Brunch Fundraiser
DESCRIPTION:RSVP\n			\n				\n				\n				\n				\n				Join us 𝗦𝘂𝗻𝗱𝗮𝘆\, 𝗝𝘂𝗹𝘆 𝟮𝟬𝘁𝗵\, 𝗮𝘁 𝟭𝗣𝗠 to catch CF Jazz and their trio Nesto’s Jazz perform two 45 minute sets and learn more about their mission to foster a vibrant jazz community in Central Florida by promoting dynamic events\, supporting young musicians\, and offering enriching learning opportunities. 🎶 And be sure to come by early because we’ll have Diablicos Coffee and Waffle Sandwich Bar set up out front from 11AM-3PM!  \n			\n				RSVP
URL:https://www.cfjazz.com/event/cf-jazz-brunch-fundraiser/
LOCATION:Park Ave Cd’s\, 2916 Corrine Dr\, Orlando\, FL\, 32803\, United States
ATTACH;FMTTYPE=image/jpeg:https://www.cfjazz.com/wp-content/uploads/2025/06/1600x900-fundraiser-.jpg
END:VEVENT
BEGIN:VEVENT
DTSTART;TZID=America/New_York:20250716T200000
DTEND;TZID=America/New_York:20250716T233000
DTSTAMP:20260423T140757
CREATED:20250606T203759Z
LAST-MODIFIED:20250606T221715Z
UID:10000017-1752696000-1752708600@www.cfjazz.com
SUMMARY:Degenerates and guests
DESCRIPTION:Get Tickets\n			\n				\n				\n				\n				\n				Modern crossover hardcore band Degenerates have taken the Orlando DIY music scene by storm; conjuring up new messages of peace\, love & anarchy through suicidal tendencies style thrash and metal. The line up of Written Off\, Onda Nova & Primal Instinct highlights the diversity of styles within the Orlando hardcore\, metal & punk scenes.  \n			\n				Get Tickets
URL:https://www.cfjazz.com/event/degenerates-and-guests/
LOCATION:Will’s Pub\, 1042 N Mills Ave\, Orlando\, 32803\, United States
ATTACH;FMTTYPE=image/jpeg:https://www.cfjazz.com/wp-content/uploads/2025/06/Degenerates-1600-x-900-px.jpg
END:VEVENT
BEGIN:VEVENT
DTSTART;TZID=America/New_York:20250610T200000
DTEND;TZID=America/New_York:20250610T200000
DTSTAMP:20260423T140757
CREATED:20250602T170616Z
LAST-MODIFIED:20250606T210133Z
UID:10000016-1749585600-1749585600@www.cfjazz.com
SUMMARY:Thomas Milovac Quartet Milo’s Motion Album Release Concert
DESCRIPTION:Get Tickets\n			\n				\n				\n				\n				\n				Orlando jazz bassist Thomas Milovac celebrates the release of Milo’s Motion\, an album pushing the boundaries of modern jazz with an interstellar lineup: Zach Muth (guitar)\, Sean Villanueva (trumpet)\, and David Weatherspoon (drums)\, plus special guest appearances by saxophonist Ryan Devlin and drummer Derek Dunn. \nPersonnel: \nThomas Milovac • BassZach Muth • GuitarDavid Weatherspoon • DrumsShawn Villanueva • Trumpet \nSpecial guests Ryan Devlin and Dereck Dunn \nOpening set by Victor Abioye\, Oliver Grimes\, and David Weatherspoon \n			\n				Get Tickets
URL:https://www.cfjazz.com/event/06-10-25-thomas-milovac-quartet/
LOCATION:Will’s Pub\, 1042 N Mills Ave\, Orlando\, 32803\, United States
ATTACH;FMTTYPE=image/jpeg:https://www.cfjazz.com/wp-content/uploads/2025/06/Thomas-Milovac-Milos-Motion-16x9-1.jpg
END:VEVENT
BEGIN:VEVENT
DTSTART;TZID=America/New_York:20250507T200000
DTEND;TZID=America/New_York:20250508T010000
DTSTAMP:20260423T140757
CREATED:20250118T055442Z
LAST-MODIFIED:20250118T055759Z
UID:10000010-1746648000-1746666000@www.cfjazz.com
SUMMARY:The Toasters with Control This\, 430 Steps\, and Matamoska live at Will's Pub
DESCRIPTION:Get Tickets\n			\n				\n				\n				\n				\n				Get ready for an unforgettable night of ska and high-energy tunes with an all-star lineup! \nThe Toasters – Legends of ska since 1981\, The Toasters are bringing their iconic sound and infectious grooves to the stage. Don’t miss your chance to see these pioneers of the genre live! \nControl This – A local favorite bringing the energy and spirit of ska with their electrifying performance. \n430 Steps – Blending ska\, punk\, and hardcore\, this band delivers a raw and powerful set you won’t want to miss. \nMatamoska – Hailing from Southern California\, these ska-punk masters bring their fiery sound and explosive stage presence to the party. \nThis event is 21 and over. Any ticket holder unable to present valid identification indicating that they are at least 21 years of age will not be admitted to this event\, and will not be eligible for a refund. \n			\n				Get Tickets
URL:https://www.cfjazz.com/event/the-toasters-with-control-this-430-steps-and-matamoska-live-at-wills-pub/
LOCATION:Will’s Pub\, 1042 N Mills Ave\, Orlando\, 32803\, United States
ATTACH;FMTTYPE=image/jpeg:https://www.cfjazz.com/wp-content/uploads/2025/01/05-07-The-Toasters.jpg
END:VEVENT
BEGIN:VEVENT
DTSTART;TZID=America/New_York:20250503T200000
DTEND;TZID=America/New_York:20250503T233000
DTSTAMP:20260423T140757
CREATED:20250320T185911Z
LAST-MODIFIED:20250320T202304Z
UID:10000011-1746302400-1746315000@www.cfjazz.com
SUMMARY:Skaldik (Chile)\, Control This\, De-Generates\, 69 Fingers at West End Live Sanford
DESCRIPTION:Get Tickets\n			\n				\n				\n				\n				\n				Get ready for an epic night of music with four incredible bands sharing the stage! \nSkaldik (Chile) – Skaldik are the ones who talk politics at parties. Seriously furious anti-fascist ska core from Chile with a full brass section. \nControl This – Bringing their signature ska sound and high-energy performance\, this local favorite will have you dancing all night. \nDe-Generates – Blistering hardcore punk and metal from Central Florida. \n69 Fingers – Prog ska since the 90’s grooving and thrashing. \nThis event is 21 and over. Any ticket holder unable to present valid identification indicating that they are at least 21 years of age will not be admitted to this event\, and will not be eligible for a refund. \n			\n				Get Tickets
URL:https://www.cfjazz.com/event/skaldik-05-03-25/
LOCATION:West End Live\, 202 S. Sanford Ave\, Sanford\, FL\, 32771\, United States
ATTACH;FMTTYPE=image/jpeg:https://www.cfjazz.com/wp-content/uploads/2025/03/june-18Th-At-20.00-23.00-1600-x-900-px-1600-x-900-px_20250320_151858_0000.jpg
END:VEVENT
BEGIN:VEVENT
DTSTART;TZID=America/New_York:20250430T200000
DTEND;TZID=America/New_York:20250430T233000
DTSTAMP:20260423T140757
CREATED:20250407T201859Z
LAST-MODIFIED:20250407T202133Z
UID:10000015-1746043200-1746055800@www.cfjazz.com
SUMMARY:Claire Liparulo & Hannah Stokes with guests
DESCRIPTION:Get Tickets\n			\n				\n				\n				\n				\n				Claire is a versatile and accomplished vocalist and songwriter. She employs a poetic style\, painting vivid\, sweeping landscapes. An engaging storyteller\, Claire’s sincere authenticity and contagious charisma give her unique ability to connect with any audience. \nHannah is a singer-songwriter influenced by the jazz-infused folk songwriting of Joni Mitchell & Nora Jones mixed with the soul stylings of Lianne La Havas & Emily King. She forges an entrancing sonic landscape to invite you into her inner world. She carries a sultry voice that radiates throughout the room.  \nWith special guests Carling Witt & Verity Rae.\n			\n				Get Tickets
URL:https://www.cfjazz.com/event/04-30-25-claire-liparulo-hannah-stokes-with-guests/
LOCATION:Will’s Pub\, 1042 N Mills Ave\, Orlando\, 32803\, United States
ATTACH;FMTTYPE=image/jpeg:https://www.cfjazz.com/wp-content/uploads/2025/04/04-30-Hannah-Stokes.jpg
END:VEVENT
BEGIN:VEVENT
DTSTART;TZID=America/New_York:20250426T200000
DTEND;TZID=America/New_York:20250426T200000
DTSTAMP:20260423T140757
CREATED:20250327T202726Z
LAST-MODIFIED:20250327T203238Z
UID:10000014-1745697600-1745697600@www.cfjazz.com
SUMMARY:Bengali 600 Album Release Show with Grove Royalty and DJ FrankMatik
DESCRIPTION:Get Tickets\n			\n				\n				\n				\n				\n				Bengali 600’s album release concert promises a genre-blending experience\, fusing Rock n’ Roll\, Jazz\, Pop\, Soul\, Afrobeat\, and Funk into a vibrant sonic tapestry. Fans of eclectic music will revel in the dynamic performances\, including supporting acts Groove Reality\, known for their high-energy fusion grooves\, and FrankMatik’s electrifying DJ set. \n			\n				Get Tickets
URL:https://www.cfjazz.com/event/04-26-25-bengali-600/
LOCATION:Will’s Pub\, 1042 N Mills Ave\, Orlando\, 32803\, United States
ATTACH;FMTTYPE=image/jpeg:https://www.cfjazz.com/wp-content/uploads/2025/03/25-04-26-Bengali-600.jpg
END:VEVENT
BEGIN:VEVENT
DTSTART;TZID=America/New_York:20250327T200000
DTEND;TZID=America/New_York:20250327T223000
DTSTAMP:20260423T140757
CREATED:20250320T200318Z
LAST-MODIFIED:20250320T201905Z
UID:10000013-1743105600-1743114600@www.cfjazz.com
SUMMARY:Groove Royalty at The Ren
DESCRIPTION:Get Tickets\n			\n				\n				\n				\n				\n				Get ready for an explosive night of rhythm and energy! Conductor Pablo Aragona and his powerhouse percussion and brass ensemble\, Groove Royalty bring the infectious beats of Argentina & South America to the Rennasaince Theatre in Orlando\, FL on March 27\, 2025.  \nThis high energy drumming\, grooving bass & bold brass is an unstoppable groove that will have you moving all night. Don’t miss it! \n			\n				Get Tickets
URL:https://www.cfjazz.com/event/groove-royalty-03-27-25/
LOCATION:the Rennaisance Theatre\, 415 E Princeton St\, Orlando\, FL\, 32803\, United States
ATTACH;FMTTYPE=image/jpeg:https://www.cfjazz.com/wp-content/uploads/2025/03/Groove-R-website.jpg
END:VEVENT
BEGIN:VEVENT
DTSTART;TZID=America/New_York:20250309T140000
DTEND;TZID=America/New_York:20250309T180000
DTSTAMP:20260423T140757
CREATED:20250118T103928Z
LAST-MODIFIED:20250122T165810Z
UID:10000009-1741528800-1741543200@www.cfjazz.com
SUMMARY:Control This\, Fuàkata\, Butterbrain\, and Fat Timmy live at Will's Pub
DESCRIPTION:Get Tickets\n			\n				\n				\n				\n				\n				Get ready for an epic night of music with four incredible bands sharing the stage! \nControl This – Bringing their signature ska sound and high-energy performance\, this local favorite will have you dancing all night. \nFuàkata – A powerhouse band blending rhythms and grooves to create an unforgettable musical experience. \nButterbrain – Delivering a unique mix of funk\, punk\, and rock with an infectious energy that will leave you wanting more. \nFat Timmy – Kicking off the night with their eclectic style and raw energy\, setting the tone for an amazing show. \nThis event is 21 and over. Any ticket holder unable to present valid identification indicating that they are at least 21 years of age will not be admitted to this event\, and will not be eligible for a refund. \n			\n				Get Tickets
URL:https://www.cfjazz.com/event/03-09-25-control-this-fuakata-butterbrain-and-fat-timmy/
LOCATION:Will’s Pub\, 1042 N Mills Ave\, Orlando\, 32803\, United States
ATTACH;FMTTYPE=image/jpeg:https://www.cfjazz.com/wp-content/uploads/2025/01/03-09-Control-This.jpg
END:VEVENT
BEGIN:VEVENT
DTSTART;TZID=America/New_York:20250221T200000
DTEND;TZID=America/New_York:20250221T234500
DTSTAMP:20260423T140757
CREATED:20250118T102757Z
LAST-MODIFIED:20250122T164946Z
UID:10000008-1740168000-1740181500@www.cfjazz.com
SUMMARY:Hub City Stompers with Control This\, TV Generation and Acta Non Verba live at Pineapples in Melbourne
DESCRIPTION:Get Tickets\n			\n				\n				\n				\n				\n				Enjoy high-energy music as New Jersey’s own Hub City Stompers – known for their unique blend of ska\, punk\, and rock\, this powerhouse band is bringing their signature sound to Florida for an electrifying performance. \nJoining the lineup are Florida’s Control This\, TV Generation\, and Acta Non Verba. \n$10 advanced\, $15 at the door \n			\n				Get Tickets
URL:https://www.cfjazz.com/event/02-21-25-hub-city-stompers/
LOCATION:Pineapples\, 1434 Pineapple Ave\, Melbourne\, FL\, 32935\, United States
ATTACH;FMTTYPE=image/jpeg:https://www.cfjazz.com/wp-content/uploads/2025/01/02-21-Hub-City-Stompers.jpg
END:VEVENT
BEGIN:VEVENT
DTSTART;TZID=America/New_York:20250122T200000
DTEND;TZID=America/New_York:20250122T234500
DTSTAMP:20260423T140757
CREATED:20250118T101328Z
LAST-MODIFIED:20250118T103124Z
UID:10000007-1737576000-1737589500@www.cfjazz.com
SUMMARY:Pablo Aragona Quintet "The Third Eye" Album Release Show live at Will's Pub
DESCRIPTION:Get Tickets\n			\n				\n				\n				\n				\n				Pablo Aragona Quintet “The Third Eye” Album Release Show with special guests\, Jahari Medina Quartet \nJoin us for an evening with the Pablo Aragona Quintet\, led by drummer and multi-instrumentalist Pablo Aragona. Originally from Buenos Aires\, Argentina\, Pablo has been touring and recording internationally since 2008\, crafting a sound that blends Latin American music\, tango\, jazz\, funk\, soul\, and classical influences. \nAfter forming the quintet in 2016\, Pablo released the EP Baco\, showcasing original compositions inspired by his roots and passion for improvisation. Following his move to Orlando\, Florida\, in 2020\, Pablo reunited the quintet with some of the finest musicians in the local scene\, producing the acclaimed EP Yikes in 2022 and a live album recorded at the Blue Bamboo Center for the Arts in 2023. \nKnown for their adventurous spirit and eclectic style\, the quintet’s performances feature original electric jazz compositions alongside innovative arrangements of iconic Tango pieces like Astor Piazzolla’s “Libertango” and “Adiós Nonino.” This year marks an exciting milestone for the group\, with two new singles already released and more to come\, as they continue gaining recognition in Florida’s vibrant music scene. \nFresh off their performance at the Jacksonville Jazz Festival\, where they shared the stage with legends like Stanley Clarke\, Chucho Valdés\, and Joss Stone\, the Pablo Aragona Quintet is set to bring their dynamic energy and musical mastery to the stage. Don’t miss this captivating performance! \nThis event is 21 and over. Any ticket holder unable to present valid identification indicating that they are at least 21 years of age will not be admitted to this event\, and will not be eligible for a refund. \n			\n				Get Tickets
URL:https://www.cfjazz.com/event/pablo-aragona-quintet-the-third-eye-album-release-show/
LOCATION:Will’s Pub\, 1042 N Mills Ave\, Orlando\, 32803\, United States
ATTACH;FMTTYPE=image/jpeg:https://www.cfjazz.com/wp-content/uploads/2025/01/01-22-Pablo-Aragona-Quintet.jpg
END:VEVENT
END:VCALENDAR